BEGIN:VCALENDAR
VERSION:2.0
PRODID:-//Rodeph Shalom - ECPv6.15.17.1//NONSGML v1.0//EN
CALSCALE:GREGORIAN
METHOD:PUBLISH
X-ORIGINAL-URL:https://rodephshalom.org
X-WR-CALDESC:Events for Rodeph Shalom
REFRESH-INTERVAL;VALUE=DURATION:PT1H
X-Robots-Tag:noindex
X-PUBLISHED-TTL:PT1H
BEGIN:VTIMEZONE
TZID:America/New_York
BEGIN:DAYLIGHT
TZOFFSETFROM:-0500
TZOFFSETTO:-0400
TZNAME:EDT
DTSTART:20230312T070000
END:DAYLIGHT
BEGIN:STANDARD
TZOFFSETFROM:-0400
TZOFFSETTO:-0500
TZNAME:EST
DTSTART:20231105T060000
END:STANDARD
BEGIN:DAYLIGHT
TZOFFSETFROM:-0500
TZOFFSETTO:-0400
TZNAME:EDT
DTSTART:20240310T070000
END:DAYLIGHT
BEGIN:STANDARD
TZOFFSETFROM:-0400
TZOFFSETTO:-0500
TZNAME:EST
DTSTART:20241103T060000
END:STANDARD
BEGIN:DAYLIGHT
TZOFFSETFROM:-0500
TZOFFSETTO:-0400
TZNAME:EDT
DTSTART:20250309T070000
END:DAYLIGHT
BEGIN:STANDARD
TZOFFSETFROM:-0400
TZOFFSETTO:-0500
TZNAME:EST
DTSTART:20251102T060000
END:STANDARD
END:VTIMEZONE
BEGIN:VEVENT
DTSTART;TZID=America/New_York:20240621T163000
DTEND;TZID=America/New_York:20240621T173000
DTSTAMP:20260422T075043
CREATED:20240917T224051Z
LAST-MODIFIED:20240917T224051Z
UID:10001208-1718987400-1718991000@rodephshalom.org
SUMMARY:Weekly Meditation Group
DESCRIPTION:Please join us each Friday evening from 4:30-5:30pm for Jewish mindfulness meditation.  Our practice includes awareness of breath and body (yoga) to help us welcome Shabbat in the spirit of shalom.  Come anytime.  Beginners welcome. Join Zoom Meeting \n 
URL:https://rodephshalom.org/event/weekly-meditation-group-83/
LOCATION:Congregation Rodeph Shalom\, 615 North Broad Street\, Philadelphia\, PA\, 19123\, United States
CATEGORIES:Adult Education
ATTACH;FMTTYPE=image/jpeg:https://rodephshalom.org/wp-content/uploads/2024/09/balance-110850_960_720-PU3xHe.tmp_.jpg
END:VEVENT
BEGIN:VEVENT
DTSTART;TZID=America/New_York:20240621T180000
DTEND;TZID=America/New_York:20240621T193000
DTSTAMP:20260422T075043
CREATED:20240917T224051Z
LAST-MODIFIED:20240917T224051Z
UID:10001209-1718992800-1718998200@rodephshalom.org
SUMMARY:Shabbat Evening Service
DESCRIPTION:Join together for an uplifting and transformative worship service that attracts the diverse population within Rodeph Shalom\, a service which is participatory\, warm\, inclusive\, welcoming\, spiritual and meaningful\, which helps everyone connect with each other\, with the soul of Jewish prayer\, and with God. \nIf you would like to access services virtually\, click here to watch the Livestream.
URL:https://rodephshalom.org/event/shabbat-evening-service-63/
LOCATION:Congregation Rodeph Shalom\, 615 North Broad Street\, Philadelphia\, PA\, 19123\, United States
CATEGORIES:Worship
ATTACH;FMTTYPE=image/jpeg:https://rodephshalom.org/wp-content/uploads/2024/09/RS-Clergy-Shabbat-ObjSd3.tmp_.jpg
END:VEVENT
END:VCALENDAR