BEGIN:VCALENDAR
VERSION:2.0
PRODID:-//Rodeph Shalom - ECPv6.15.17.1//NONSGML v1.0//EN
CALSCALE:GREGORIAN
METHOD:PUBLISH
X-ORIGINAL-URL:https://rodephshalom.org
X-WR-CALDESC:Events for Rodeph Shalom
REFRESH-INTERVAL;VALUE=DURATION:PT1H
X-Robots-Tag:noindex
X-PUBLISHED-TTL:PT1H
BEGIN:VTIMEZONE
TZID:America/New_York
BEGIN:DAYLIGHT
TZOFFSETFROM:-0500
TZOFFSETTO:-0400
TZNAME:EDT
DTSTART:20230312T070000
END:DAYLIGHT
BEGIN:STANDARD
TZOFFSETFROM:-0400
TZOFFSETTO:-0500
TZNAME:EST
DTSTART:20231105T060000
END:STANDARD
BEGIN:DAYLIGHT
TZOFFSETFROM:-0500
TZOFFSETTO:-0400
TZNAME:EDT
DTSTART:20240310T070000
END:DAYLIGHT
BEGIN:STANDARD
TZOFFSETFROM:-0400
TZOFFSETTO:-0500
TZNAME:EST
DTSTART:20241103T060000
END:STANDARD
BEGIN:DAYLIGHT
TZOFFSETFROM:-0500
TZOFFSETTO:-0400
TZNAME:EDT
DTSTART:20250309T070000
END:DAYLIGHT
BEGIN:STANDARD
TZOFFSETFROM:-0400
TZOFFSETTO:-0500
TZNAME:EST
DTSTART:20251102T060000
END:STANDARD
BEGIN:DAYLIGHT
TZOFFSETFROM:-0500
TZOFFSETTO:-0400
TZNAME:EDT
DTSTART:20260308T070000
END:DAYLIGHT
BEGIN:STANDARD
TZOFFSETFROM:-0400
TZOFFSETTO:-0500
TZNAME:EST
DTSTART:20261101T060000
END:STANDARD
END:VTIMEZONE
BEGIN:VTIMEZONE
TZID:UTC
BEGIN:STANDARD
TZOFFSETFROM:+0000
TZOFFSETTO:+0000
TZNAME:UTC
DTSTART:20230101T000000
END:STANDARD
END:VTIMEZONE
BEGIN:VEVENT
DTSTART;TZID=America/New_York:20241013T100000
DTEND;TZID=America/New_York:20241013T120000
DTSTAMP:20260419T093419
CREATED:20240917T224745Z
LAST-MODIFIED:20240917T224745Z
UID:10001366-1728813600-1728820800@rodephshalom.org
SUMMARY:Community Sukkah Building
DESCRIPTION:All congregants are invited to a Community Sukkah Building on Sunday\, October 13 at 10:00 a.m.  \nThank you to our EngageRS Groups for creating our beautiful sukkah.
URL:https://rodephshalom.org/event/community-sukkah-building-3/
LOCATION:Congregation Rodeph Shalom\, 615 North Broad Street\, Philadelphia\, PA\, 19123\, United States
CATEGORIES:Community,Holiday
END:VEVENT
BEGIN:VEVENT
DTSTART;TZID=America/New_York:20241014T170000
DTEND;TZID=America/New_York:20241014T190000
DTSTAMP:20260419T093419
CREATED:20240917T224757Z
LAST-MODIFIED:20240917T224757Z
UID:10001367-1728925200-1728932400@rodephshalom.org
SUMMARY:Community Sukkah Decorating
DESCRIPTION:All congregants are invited to a Community Sukkah Decorating on Monday\, October 14 at 5:00 p.m.  \nThank you to our EngageRS Groups for creating our beautiful sukkah.
URL:https://rodephshalom.org/event/community-sukkah-decorating-3/
LOCATION:Congregation Rodeph Shalom\, 615 North Broad Street\, Philadelphia\, PA\, 19123\, United States
CATEGORIES:Community,Holiday
END:VEVENT
BEGIN:VEVENT
DTSTART;TZID=America/New_York:20241016T173000
DTEND;TZID=America/New_York:20241016T190000
DTSTAMP:20260419T093419
CREATED:20240917T224758Z
LAST-MODIFIED:20240917T224758Z
UID:10001373-1729099800-1729105200@rodephshalom.org
SUMMARY:Berkman Mercaz Limud Families Sukkot Dinner
DESCRIPTION:Enjoy dinner in the sukkah on Wednesday\, Oct. 16 at 5:30 p.m. Register here.
URL:https://rodephshalom.org/event/berkman-mercaz-limud-families-sukkot-dinner/
LOCATION:Congregation Rodeph Shalom\, 615 North Broad Street\, Philadelphia\, PA\, 19123\, United States
CATEGORIES:Berkman Mercaz Limud,Holiday
END:VEVENT
BEGIN:VEVENT
DTSTART;TZID=America/New_York:20241016T193000
DTEND;TZID=America/New_York:20241016T210000
DTSTAMP:20260419T093419
CREATED:20240917T224758Z
LAST-MODIFIED:20240917T224758Z
UID:10001374-1729107000-1729112400@rodephshalom.org
SUMMARY:Young Friends and Tribe 12 in the Sukkah
DESCRIPTION:Join with Tribe 12 for Torah Study in the sukkah with Rabbi Freedman. Register for the event here.  Potluck signup here.
URL:https://rodephshalom.org/event/young-friends-and-tribe-12-in-the-sukkah/
LOCATION:Congregation Rodeph Shalom\, 615 North Broad Street\, Philadelphia\, PA\, 19123\, United States
CATEGORIES:Holiday,Young Friends
END:VEVENT
BEGIN:VEVENT
DTSTART;TZID=America/New_York:20241017T104500
DTEND;TZID=America/New_York:20241017T123000
DTSTAMP:20260419T093419
CREATED:20240917T224759Z
LAST-MODIFIED:20240917T224759Z
UID:10001375-1729161900-1729168200@rodephshalom.org
SUMMARY:Sukkot Festival Service
DESCRIPTION:
URL:https://rodephshalom.org/event/sukkot-festival-service/
LOCATION:Congregation Rodeph Shalom\, 615 North Broad Street\, Philadelphia\, PA\, 19123\, United States
CATEGORIES:Holiday
END:VEVENT
BEGIN:VEVENT
DTSTART;TZID=America/New_York:20241017T170000
DTEND;TZID=America/New_York:20241017T183000
DTSTAMP:20260419T093419
CREATED:20240917T224759Z
LAST-MODIFIED:20240917T224759Z
UID:10001376-1729184400-1729189800@rodephshalom.org
SUMMARY:Families with Young Children Sukkot Celebration
DESCRIPTION:Celebrate the fall harvest at a Sukkot celebration at the RS playground on Thursday\, Oct. 17 at 5:00 p.m. RSVP to Andi Miller.
URL:https://rodephshalom.org/event/families-with-young-children-sukkot-celebration/
LOCATION:Congregation Rodeph Shalom\, 615 North Broad Street\, Philadelphia\, PA\, 19123\, United States
CATEGORIES:Buerger Early Learning Center,Families with Young Children,Holiday
END:VEVENT
BEGIN:VEVENT
DTSTART;TZID=America/New_York:20241017T180000
DTEND;TZID=America/New_York:20241017T193000
DTSTAMP:20260419T093419
CREATED:20240917T224813Z
LAST-MODIFIED:20240917T224813Z
UID:10001377-1729188000-1729193400@rodephshalom.org
SUMMARY:RS Women Sukkot Dinner
DESCRIPTION:Join for a potluck in the sukkah on Thursday\, Oct. 17 at 6:00 p.m. Register here. Potluck sign up here. Contact Ellen Poster.
URL:https://rodephshalom.org/event/rs-women-sukkot-dinner/
LOCATION:Congregation Rodeph Shalom\, 615 North Broad Street\, Philadelphia\, PA\, 19123\, United States
CATEGORIES:Holiday,RS Women
END:VEVENT
BEGIN:VEVENT
DTSTART;TZID=America/New_York:20241018T193000
DTEND;TZID=America/New_York:20241018T213000
DTSTAMP:20260419T093419
CREATED:20240917T224813Z
LAST-MODIFIED:20240917T224813Z
UID:10001380-1729279800-1729287000@rodephshalom.org
SUMMARY:Community Sukkot Dinner
DESCRIPTION:Join together in the sukkah for great food and fun on Friday\, October 18 following the Shabbat evening service. \n$36/adult; $18/children 5-12. Register here. \nContact Steven Share at sshare@rodephshalom.org or 267-930-7286.
URL:https://rodephshalom.org/event/community-sukkot-dinner-2/
LOCATION:Congregation Rodeph Shalom\, 615 North Broad Street\, Philadelphia\, PA\, 19123\, United States
CATEGORIES:Community,Holiday
END:VEVENT
BEGIN:VEVENT
DTSTART;TZID=UTC:20241023T180000
DTEND;TZID=UTC:20241023T203000
DTSTAMP:20260419T093419
CREATED:20241009T180409Z
LAST-MODIFIED:20241016T230527Z
UID:10001627-1729706400-1729715400@rodephshalom.org
SUMMARY:Simchat Torah & Consecration Ceremony
DESCRIPTION:On Simchat Torah\, all are invited to celebrate the completion of the annual reading of the Torah and affirm Torah as one of the pillars on which we build our lives. The Consecration ceremony marks the beginning of Jewish education for Berkman Mercaz Limud students. \nConsecration families are invited to join for pizza at 5:30 p.m. preceding Simchat Torah and the Consecration ceremony. \nJoin the congregation for a Simchat Torah Festival Service with Yizkor on Thursday\, October 24 at 10:45 a.m.
URL:https://rodephshalom.org/event/simchat-torah-consecration-ceremony/
LOCATION:Congregation Rodeph Shalom\, 615 North Broad Street\, Philadelphia\, PA\, 19123\, United States
CATEGORIES:Berkman Mercaz Limud,Community,Holiday
END:VEVENT
BEGIN:VEVENT
DTSTART;TZID=America/New_York:20241024T104500
DTEND;TZID=America/New_York:20241024T121500
DTSTAMP:20260419T093419
CREATED:20240917T224830Z
LAST-MODIFIED:20240917T224830Z
UID:10001389-1729766700-1729772100@rodephshalom.org
SUMMARY:Simchat Torah Festival Service with Yizkor
DESCRIPTION:
URL:https://rodephshalom.org/event/simchat-torah-festival-service-with-yizkor-3/
LOCATION:Congregation Rodeph Shalom\, 615 North Broad Street\, Philadelphia\, PA\, 19123\, United States
CATEGORIES:Holiday
END:VEVENT
BEGIN:VEVENT
DTSTART;TZID=UTC:20250313T180000
DTEND;TZID=UTC:20250313T200000
DTSTAMP:20260419T093419
CREATED:20250218T191353Z
LAST-MODIFIED:20250227T220133Z
UID:10003395-1741888800-1741896000@rodephshalom.org
SUMMARY:Broadway Comes to Broad Street Purim Celebration
DESCRIPTION:Get out your groggers\, dress up as your favorite Broadway superstar\, and bring the whole family to the RS Purim Extravaganza! \nInspired by Broadway\, RS Schpielmasters share a hilarious homage to the tale of Haman\, Esther\, and Mordechai. (Mis)using tunes and lyrics from your favorite Broadway musicals\, our talented troupe of singers and dancers put a new spin on this timeless triumphant tale of good vs. evil. \nEnjoy dinner and bring your own beer\, wine\, or schnapps to drown out the name of everybody’s favorite villain. \nPerform the mitzvah of Matanot L’Evyonim (giving gifts to those in need) when you donate non-perishable food items in the lobby on Thursday\, March 13. These items will be distributed to Breaking Bread on Broad. \nContact Lynn Edelman and Lyndsey Fox. \nRegistration required here.
URL:https://rodephshalom.org/event/broadway-comes-to-broad-street-purim-celebration/
LOCATION:Congregation Rodeph Shalom\, 615 North Broad Street\, Philadelphia\, PA\, 19123\, United States
CATEGORIES:Community,Holiday
END:VEVENT
BEGIN:VEVENT
DTSTART;TZID=UTC:20250413T173000
DTEND;TZID=UTC:20250413T203000
DTSTAMP:20260419T093419
CREATED:20250204T235121Z
LAST-MODIFIED:20250412T013006Z
UID:10003387-1744565400-1744576200@rodephshalom.org
SUMMARY:Second Night Seder
DESCRIPTION:Celebrate the second night of Passover with your RS community at a seder on Sunday\, April 13 at 5:30 p.m. \nMember Pricing\nAdults: $70/pp; Children (3-12): $20/pp; Free under 3 \nNon-Member Pricing\nAdults: $105/pp; Children (3-12): $30/pp; Free for children under 3 \nContact Alyssa Geller at 267-930-7295. Best efforts will be made to accommodate your requests\, but seating location cannot be guaranteed. \nAll are welcome. For members experiencing financial challenges\, please contact Jeff Katz (jkatz@rodephshalom.org). \nYour registration must be received by Monday\, April 7 \n  \n  \n  \n 
URL:https://rodephshalom.org/event/second-night-seder/
LOCATION:Congregation Rodeph Shalom\, 615 North Broad Street\, Philadelphia\, PA\, 19123\, United States
CATEGORIES:Community,Holiday
END:VEVENT
BEGIN:VEVENT
DTSTART;TZID=UTC:20250602T104500
DTEND;TZID=UTC:20250602T120000
DTSTAMP:20260419T093419
CREATED:20250512T233304Z
LAST-MODIFIED:20250512T233304Z
UID:10003726-1748861100-1748865600@rodephshalom.org
SUMMARY:Shavuot Morning Festival Service with Yizkor
DESCRIPTION:Attend the Shavuot Festival Service with Yizkor\, where we will honor the memories of our loved ones who passed away this year from Passover to Shavuot.
URL:https://rodephshalom.org/event/shavuot-morning-festival-service-with-yizkor/
LOCATION:Congregation Rodeph Shalom\, 615 North Broad Street\, Philadelphia\, PA\, 19123\, United States
CATEGORIES:Holiday,Worship
END:VEVENT
BEGIN:VEVENT
DTSTART;TZID=UTC:20250913T170000
DTEND;TZID=UTC:20250913T193000
DTSTAMP:20260419T093419
CREATED:20250630T182352Z
LAST-MODIFIED:20250905T194058Z
UID:10004314-1757782800-1757791800@rodephshalom.org
SUMMARY:Selichot Fall Festival & Service
DESCRIPTION:Join in community for a joyful evening of music\, games\, and fun for all at RS! Musical entertainment will be provided by YOU\, our community! Bring your voice\, musical instruments\, and a song or two to perform. \nPlease make sure to bring money for the food truck that will be on-site. \nThe evening will conclude with a brief Selichot service at 7:00 p.m.\, welcoming the High Holy Day season. \nRegister here to attend (or peform). \nThank you to the Miles Jellinek Music Fund for its sponsorship.
URL:https://rodephshalom.org/event/selichot-fall-festival-service/
LOCATION:Congregation Rodeph Shalom\, 615 North Broad Street\, Philadelphia\, PA\, 19123\, United States
CATEGORIES:High Holy Days,Holiday
END:VEVENT
BEGIN:VEVENT
DTSTART;TZID=America/New_York:20250923T090000
DTEND;TZID=America/New_York:20250923T103000
DTSTAMP:20260419T093419
CREATED:20250630T182658Z
LAST-MODIFIED:20250919T190052Z
UID:10004316-1758618000-1758623400@rodephshalom.org
SUMMARY:Rosh Hashanah Contemporary Service
DESCRIPTION:
URL:https://rodephshalom.org/event/rosh-hashanah-contemporary/
LOCATION:Congregation Rodeph Shalom\, 615 North Broad Street\, Philadelphia\, PA\, 19123\, United States
CATEGORIES:High Holy Days,Holiday
END:VEVENT
BEGIN:VEVENT
DTSTART;TZID=America/New_York:20250923T113000
DTEND;TZID=America/New_York:20250923T130000
DTSTAMP:20260419T093419
CREATED:20250630T182826Z
LAST-MODIFIED:20250919T194007Z
UID:10004317-1758627000-1758632400@rodephshalom.org
SUMMARY:Rosh Hashanah Classical Service
DESCRIPTION:
URL:https://rodephshalom.org/event/rosh-hashanah-classical-service-4/
LOCATION:Congregation Rodeph Shalom\, 615 North Broad Street\, Philadelphia\, PA\, 19123\, United States
CATEGORIES:High Holy Days,Holiday
END:VEVENT
BEGIN:VEVENT
DTSTART;TZID=America/New_York:20250923T140000
DTEND;TZID=America/New_York:20250923T153000
DTSTAMP:20260419T093419
CREATED:20250630T183008Z
LAST-MODIFIED:20250919T192909Z
UID:10004318-1758636000-1758641400@rodephshalom.org
SUMMARY:Tashlich at Fairmount Water Works
DESCRIPTION:Tuesday\, September 23 at 2:00 p.m.\, Fairmount Water Works Gazebo \nTashlich is a ceremony of casting away our sins or wrongdoings from the past year\, and to improve and move forward in life. Find leaves and twigs to throw into the water\, as to not introduce foreign elements into the environment.
URL:https://rodephshalom.org/event/tashlich-at-fairmount-water-works/
LOCATION:Fairmount Water Works\, 640 Waterworks Dr\, Philadelphia\, PA\, 19130\, United States
CATEGORIES:High Holy Days,Holiday
END:VEVENT
BEGIN:VEVENT
DTSTART;TZID=America/New_York:20251001T193000
DTEND;TZID=America/New_York:20251001T213000
DTSTAMP:20260419T093419
CREATED:20250630T183049Z
LAST-MODIFIED:20250919T194121Z
UID:10004319-1759347000-1759354200@rodephshalom.org
SUMMARY:Kol Nidre
DESCRIPTION:
URL:https://rodephshalom.org/event/kol-nidre/
LOCATION:Congregation Rodeph Shalom\, 615 North Broad Street\, Philadelphia\, PA\, 19123\, United States
CATEGORIES:High Holy Days,Holiday
END:VEVENT
BEGIN:VEVENT
DTSTART;TZID=America/New_York:20251002T090000
DTEND;TZID=America/New_York:20251002T103000
DTSTAMP:20260419T093419
CREATED:20250630T183129Z
LAST-MODIFIED:20250919T194204Z
UID:10004320-1759395600-1759401000@rodephshalom.org
SUMMARY:Yom Kippur Contemporary Service
DESCRIPTION:
URL:https://rodephshalom.org/event/yom-kippur-contemporary-service-4/
LOCATION:Congregation Rodeph Shalom\, 615 North Broad Street\, Philadelphia\, PA\, 19123\, United States
CATEGORIES:High Holy Days,Holiday
END:VEVENT
BEGIN:VEVENT
DTSTART;TZID=America/New_York:20251002T113000
DTEND;TZID=America/New_York:20251002T133000
DTSTAMP:20260419T093419
CREATED:20250630T183206Z
LAST-MODIFIED:20250919T194232Z
UID:10004321-1759404600-1759411800@rodephshalom.org
SUMMARY:Yom Kippur Classical Service
DESCRIPTION:
URL:https://rodephshalom.org/event/yom-kippur-classical-service-4/
LOCATION:Congregation Rodeph Shalom\, 615 North Broad Street\, Philadelphia\, PA\, 19123\, United States
CATEGORIES:High Holy Days,Holiday
END:VEVENT
BEGIN:VEVENT
DTSTART;TZID=America/New_York:20251002T140000
DTEND;TZID=America/New_York:20251002T150000
DTSTAMP:20260419T093419
CREATED:20250630T183245Z
LAST-MODIFIED:20250919T194307Z
UID:10004322-1759413600-1759417200@rodephshalom.org
SUMMARY:Yom Kippur Study Session
DESCRIPTION:
URL:https://rodephshalom.org/event/yom-kippur-study-session-3/
LOCATION:Congregation Rodeph Shalom\, 615 North Broad Street\, Philadelphia\, PA\, 19123\, United States
CATEGORIES:High Holy Days,Holiday
END:VEVENT
BEGIN:VEVENT
DTSTART;TZID=America/New_York:20251002T140000
DTEND;TZID=America/New_York:20251002T150000
DTSTAMP:20260419T093419
CREATED:20250630T183333Z
LAST-MODIFIED:20250919T194403Z
UID:10004323-1759413600-1759417200@rodephshalom.org
SUMMARY:Yom Kippur Meditation Workshop
DESCRIPTION:
URL:https://rodephshalom.org/event/yom-kippur-meditation-workshop/
LOCATION:Congregation Rodeph Shalom\, 615 North Broad Street\, Philadelphia\, PA\, 19123\, United States
CATEGORIES:High Holy Days,Holiday
END:VEVENT
BEGIN:VEVENT
DTSTART;TZID=America/New_York:20251002T153000
DTEND;TZID=America/New_York:20251002T163000
DTSTAMP:20260419T093419
CREATED:20250630T183428Z
LAST-MODIFIED:20250919T200647Z
UID:10004324-1759419000-1759422600@rodephshalom.org
SUMMARY:Yom Kippur Afternoon Service
DESCRIPTION:
URL:https://rodephshalom.org/event/yom-kippur-afternoon-service-4/
LOCATION:Congregation Rodeph Shalom\, 615 North Broad Street\, Philadelphia\, PA\, 19123\, United States
CATEGORIES:High Holy Days,Holiday
END:VEVENT
BEGIN:VEVENT
DTSTART;TZID=America/New_York:20251002T163000
DTEND;TZID=America/New_York:20251002T173000
DTSTAMP:20260419T093419
CREATED:20250630T183531Z
LAST-MODIFIED:20250919T200556Z
UID:10004325-1759422600-1759426200@rodephshalom.org
SUMMARY:Yom Kippur Yizkor/Neilah Service
DESCRIPTION:
URL:https://rodephshalom.org/event/yom-kippur-yizkor-neilah-service-2/
LOCATION:Congregation Rodeph Shalom\, 615 North Broad Street\, Philadelphia\, PA\, 19123\, United States
CATEGORIES:High Holy Days,Holiday
END:VEVENT
BEGIN:VEVENT
DTSTART;TZID=America/New_York:20251002T173000
DTEND;TZID=America/New_York:20251002T183000
DTSTAMP:20260419T093419
CREATED:20250630T183604Z
LAST-MODIFIED:20250919T200537Z
UID:10004326-1759426200-1759429800@rodephshalom.org
SUMMARY:Break-the-Fast
DESCRIPTION:
URL:https://rodephshalom.org/event/break-the-fast-2/
LOCATION:Congregation Rodeph Shalom\, 615 North Broad Street\, Philadelphia\, PA\, 19123\, United States
CATEGORIES:High Holy Days,Holiday
END:VEVENT
BEGIN:VEVENT
DTSTART;TZID=America/New_York:20251004T130000
DTEND;TZID=America/New_York:20251004T150000
DTSTAMP:20260419T093419
CREATED:20250902T164756Z
LAST-MODIFIED:20250919T200517Z
UID:10004802-1759582800-1759590000@rodephshalom.org
SUMMARY:Community Sukkah Building
DESCRIPTION:All congregants are invited to a Community Sukkah Building on Saturday\, October 4 at 1:00 p.m. \nRegister here.
URL:https://rodephshalom.org/event/community-sukkah-building-4/
LOCATION:Congregation Rodeph Shalom\, 615 North Broad Street\, Philadelphia\, PA\, 19123\, United States
CATEGORIES:Community,Holiday
END:VEVENT
BEGIN:VEVENT
DTSTART;TZID=America/New_York:20251005T103000
DTEND;TZID=America/New_York:20251005T120000
DTSTAMP:20260419T093419
CREATED:20250902T164937Z
LAST-MODIFIED:20250919T200452Z
UID:10004803-1759660200-1759665600@rodephshalom.org
SUMMARY:Community Sukkah Decorating
DESCRIPTION:Join Berkman Mercaz Limud parents and participate in the mitzvah of decorating the RS Sukkah. Meet in the Courtyard. \nRegister here.
URL:https://rodephshalom.org/event/community-sukkah-decorating-4/
LOCATION:Congregation Rodeph Shalom\, 615 North Broad Street\, Philadelphia\, PA\, 19123\, United States
CATEGORIES:Berkman Mercaz Limud Parent Group,Community,Holiday
END:VEVENT
BEGIN:VEVENT
DTSTART;TZID=America/New_York:20251007T104500
DTEND;TZID=America/New_York:20251007T121500
DTSTAMP:20260419T093419
CREATED:20250630T183650Z
LAST-MODIFIED:20250919T200430Z
UID:10004327-1759833900-1759839300@rodephshalom.org
SUMMARY:Sukkot Festival Morning Service
DESCRIPTION:
URL:https://rodephshalom.org/event/sukkot-festival-morning-service-2/
LOCATION:Congregation Rodeph Shalom\, 615 North Broad Street\, Philadelphia\, PA\, 19123\, United States
CATEGORIES:High Holy Days,Holiday
END:VEVENT
BEGIN:VEVENT
DTSTART;TZID=America/New_York:20251007T170000
DTEND;TZID=America/New_York:20251007T183000
DTSTAMP:20260419T093419
CREATED:20250902T165350Z
LAST-MODIFIED:20250919T200318Z
UID:10004806-1759856400-1759861800@rodephshalom.org
SUMMARY:Families with Young Children & Buerger Early Learning Center Sukkot Dinner
DESCRIPTION:Celebrate the fall harvest at a Sukkot celebration at the RS playground on Tuesday\, October 7 at 5:00 p.m. RSVP to Andi Miller.
URL:https://rodephshalom.org/event/families-with-young-children-buerger-early-learning-center-sukkot-dinner/
LOCATION:Congregation Rodeph Shalom\, 615 North Broad Street\, Philadelphia\, PA\, 19123\, United States
CATEGORIES:Buerger Early Learning Center,Families with Young Children,Holiday
END:VEVENT
BEGIN:VEVENT
DTSTART;TZID=America/New_York:20251007T190000
DTEND;TZID=America/New_York:20251007T203000
DTSTAMP:20260419T093419
CREATED:20250902T165523Z
LAST-MODIFIED:20250919T200058Z
UID:10004807-1759863600-1759869000@rodephshalom.org
SUMMARY:Young Friends & Tribe 12 Sukkot Potluck Dinner
DESCRIPTION:Join together for a potluck dinner with Tribe 12 on Tuesday\, October 7 at 7:00 p.m. in the sukkah. \nRegister here. Potluck signup here. Contact Robert Higgins.
URL:https://rodephshalom.org/event/young-friends-tribe-12-sukkot-potluck-dinner/
LOCATION:Congregation Rodeph Shalom\, 615 North Broad Street\, Philadelphia\, PA\, 19123\, United States
CATEGORIES:Holiday,Young Friends
END:VEVENT
END:VCALENDAR