BEGIN:VCALENDAR
VERSION:2.0
PRODID:-//Rodeph Shalom - ECPv6.15.17.1//NONSGML v1.0//EN
CALSCALE:GREGORIAN
METHOD:PUBLISH
X-ORIGINAL-URL:https://rodephshalom.org
X-WR-CALDESC:Events for Rodeph Shalom
REFRESH-INTERVAL;VALUE=DURATION:PT1H
X-Robots-Tag:noindex
X-PUBLISHED-TTL:PT1H
BEGIN:VTIMEZONE
TZID:America/New_York
BEGIN:DAYLIGHT
TZOFFSETFROM:-0500
TZOFFSETTO:-0400
TZNAME:EDT
DTSTART:20240310T070000
END:DAYLIGHT
BEGIN:STANDARD
TZOFFSETFROM:-0400
TZOFFSETTO:-0500
TZNAME:EST
DTSTART:20241103T060000
END:STANDARD
BEGIN:DAYLIGHT
TZOFFSETFROM:-0500
TZOFFSETTO:-0400
TZNAME:EDT
DTSTART:20250309T070000
END:DAYLIGHT
BEGIN:STANDARD
TZOFFSETFROM:-0400
TZOFFSETTO:-0500
TZNAME:EST
DTSTART:20251102T060000
END:STANDARD
BEGIN:DAYLIGHT
TZOFFSETFROM:-0500
TZOFFSETTO:-0400
TZNAME:EDT
DTSTART:20260308T070000
END:DAYLIGHT
BEGIN:STANDARD
TZOFFSETFROM:-0400
TZOFFSETTO:-0500
TZNAME:EST
DTSTART:20261101T060000
END:STANDARD
END:VTIMEZONE
BEGIN:VEVENT
DTSTART;TZID=America/New_York:20250204T170000
DTEND;TZID=America/New_York:20250204T183000
DTSTAMP:20260422T074752
CREATED:20240917T225511Z
LAST-MODIFIED:20240917T225511Z
UID:10001523-1738688400-1738693800@rodephshalom.org
SUMMARY:Knitzvot
DESCRIPTION:Rodeph Shalom’s Engagement Group for knitters\, crocheters\, quilters\, and other fiber artists. Bring your current project\, and let’s hang out\, chat\, and learn from each other! All ages and skill levels welcome; we have supplies to share.\n\n\nContacts: Judah Calkins and Susan Roth. Ask to join our email list for meeting reminders and shop talk! 
URL:https://rodephshalom.org/event/knitzvot-10/
LOCATION:Congregation Rodeph Shalom\, 615 North Broad Street\, Philadelphia\, PA\, 19123\, United States
CATEGORIES:Knitzvot
END:VEVENT
END:VCALENDAR