BEGIN:VCALENDAR
VERSION:2.0
PRODID:-//Rodeph Shalom - ECPv6.15.17.1//NONSGML v1.0//EN
CALSCALE:GREGORIAN
METHOD:PUBLISH
X-ORIGINAL-URL:https://rodephshalom.org
X-WR-CALDESC:Events for Rodeph Shalom
REFRESH-INTERVAL;VALUE=DURATION:PT1H
X-Robots-Tag:noindex
X-PUBLISHED-TTL:PT1H
BEGIN:VTIMEZONE
TZID:America/New_York
BEGIN:DAYLIGHT
TZOFFSETFROM:-0500
TZOFFSETTO:-0400
TZNAME:EDT
DTSTART:20240310T070000
END:DAYLIGHT
BEGIN:STANDARD
TZOFFSETFROM:-0400
TZOFFSETTO:-0500
TZNAME:EST
DTSTART:20241103T060000
END:STANDARD
BEGIN:DAYLIGHT
TZOFFSETFROM:-0500
TZOFFSETTO:-0400
TZNAME:EDT
DTSTART:20250309T070000
END:DAYLIGHT
BEGIN:STANDARD
TZOFFSETFROM:-0400
TZOFFSETTO:-0500
TZNAME:EST
DTSTART:20251102T060000
END:STANDARD
BEGIN:DAYLIGHT
TZOFFSETFROM:-0500
TZOFFSETTO:-0400
TZNAME:EDT
DTSTART:20260308T070000
END:DAYLIGHT
BEGIN:STANDARD
TZOFFSETFROM:-0400
TZOFFSETTO:-0500
TZNAME:EST
DTSTART:20261101T060000
END:STANDARD
END:VTIMEZONE
BEGIN:VTIMEZONE
TZID:UTC
BEGIN:STANDARD
TZOFFSETFROM:+0000
TZOFFSETTO:+0000
TZNAME:UTC
DTSTART:20240101T000000
END:STANDARD
END:VTIMEZONE
BEGIN:VEVENT
DTSTART;TZID=America/New_York:20250621T104500
DTEND;TZID=America/New_York:20250621T121500
DTSTAMP:20260422T104005
CREATED:20240917T225439Z
LAST-MODIFIED:20250114T205521Z
UID:10002601-1750502700-1750508100@rodephshalom.org
SUMMARY:Shabbat Morning Services
DESCRIPTION:
URL:https://rodephshalom.org/event/shabbat-morning-services-67/2025-06-21/
LOCATION:Congregation Rodeph Shalom\, 615 North Broad Street\, Philadelphia\, PA\, 19123\, United States
CATEGORIES:Worship
END:VEVENT
BEGIN:VEVENT
DTSTART;TZID=America/New_York:20250621T091500
DTEND;TZID=America/New_York:20250621T103000
DTSTAMP:20260422T104005
CREATED:20240917T225543Z
LAST-MODIFIED:20251030T124013Z
UID:10002868-1750497300-1750501800@rodephshalom.org
SUMMARY:Torah Study
DESCRIPTION:The cornerstone of our learning is our Saturday morning Torah Study. We discuss the weekly Torah portion and have a lively and spirited conversation as we relate this ancient text to our daily lives. \nNo special training or prerequisite courses are necessary for you to attend. Neither is there an entrance requirement for the understanding of Torah. When we come to it in study\, there are no barriers to keep us distant from our heritage. \nTo access the weekly portion digitally visit: https://www.hebcal.com/sedrot or to purchase a hard copy of the plaut Torah commentary or women’s commentary visit  https://www.ccarpress.org/shopping_product_list.asp \nJoin Zoom Meeting 
URL:https://rodephshalom.org/event/torah-study-140/2025-06-21/
LOCATION:Congregation Rodeph Shalom\, 615 North Broad Street\, Philadelphia\, PA\, 19123\, United States
CATEGORIES:Adult Education
ATTACH;FMTTYPE=image/jpeg:https://rodephshalom.org/wp-content/uploads/2024/09/i-gxxCmW9-XL-e1664812690109-MaXQOx.tmp_.jpg
END:VEVENT
BEGIN:VEVENT
DTSTART;TZID=America/New_York:20250620T180000
DTEND;TZID=America/New_York:20250620T193000
DTSTAMP:20260422T104005
CREATED:20240917T225558Z
LAST-MODIFIED:20251030T123853Z
UID:10003136-1750442400-1750447800@rodephshalom.org
SUMMARY:Shabbat Evening Service
DESCRIPTION:Join together for an uplifting and transformative worship service that attracts the diverse population within Rodeph Shalom\, a service which is participatory\, warm\, inclusive\, welcoming\, spiritual and meaningful\, which helps everyone connect with each other\, with the soul of Jewish prayer\, and with God. \nIf you would like to access services virtually\, click here to watch the Livestream.
URL:https://rodephshalom.org/event/shabbat-evening-service-99/2025-06-20/
LOCATION:Congregation Rodeph Shalom\, 615 North Broad Street\, Philadelphia\, PA\, 19123\, United States
CATEGORIES:Worship
ATTACH;FMTTYPE=image/jpeg:https://rodephshalom.org/wp-content/uploads/2024/09/RS-Clergy-Shabbat-ObjSd3.tmp_.jpg
END:VEVENT
BEGIN:VEVENT
DTSTART;TZID=UTC:20250620T170000
DTEND;TZID=UTC:20250620T180000
DTSTAMP:20260422T104005
CREATED:20250428T171431Z
LAST-MODIFIED:20250428T171431Z
UID:10003701-1750438800-1750442400@rodephshalom.org
SUMMARY:Families with Young Children Pizza Shabbat
DESCRIPTION:Celebrate Shabbat with pizza and songs at Pizza Shabbat. at RS. RSVP to Andi Miller.
URL:https://rodephshalom.org/event/families-with-young-children-pizza-shabbat-5/2025-06-20/
LOCATION:Congregation Rodeph Shalom\, 615 North Broad Street\, Philadelphia\, PA\, 19123\, United States
CATEGORIES:Community,Families with Young Children
END:VEVENT
BEGIN:VEVENT
DTSTART;TZID=America/New_York:20250619T083000
DTEND;TZID=America/New_York:20250619T084000
DTSTAMP:20260422T104005
CREATED:20250620T175942Z
LAST-MODIFIED:20250620T175943Z
UID:10004051-1750321800-1750322400@rodephshalom.org
SUMMARY:Community Morning Minyan
DESCRIPTION:Every Thursday from 8:30-8:40 a.m. on Zoom \nStart your day in community. Whether you want to support others\, are in mourning\, or are marking a yahrzeit\, join us for a brief\, meaningful service. Your presence matters. \nJoin Zoom here. Open to all. Contact Tomas Isakowitz.
URL:https://rodephshalom.org/event/community-morning-minyan-108-2/2025-06-19/
LOCATION:Congregation Rodeph Shalom\, 615 North Broad Street\, Philadelphia\, PA\, 19123\, United States
CATEGORIES:Community
ATTACH;FMTTYPE=image/jpeg:https://rodephshalom.org/wp-content/uploads/2024/09/SLGCKGC-300x198-1-PKXPIC.tmp_.jpg
END:VEVENT
BEGIN:VEVENT
DTSTART;TZID=UTC:20250618T183000
DTEND;TZID=UTC:20250618T200000
DTSTAMP:20260422T104005
CREATED:20250529T220139Z
LAST-MODIFIED:20250529T220155Z
UID:10003746-1750271400-1750276800@rodephshalom.org
SUMMARY:Jewish Feminist Book Club
DESCRIPTION:Join us to read Jewish Feminist literature. At the next meeting on June 18\, explore Jewish Feminism through the eyes of Judith Plaskow\, a Jewish feminist theologian who is widely regarded as one of the founders of Jewish feminist theology. \nRegister here. Contact Jan Friedman.
URL:https://rodephshalom.org/event/jewish-feminist-book-club-2-2/
LOCATION:Congregation Rodeph Shalom\, 615 North Broad Street\, Philadelphia\, PA\, 19123\, United States
CATEGORIES:Community,RS Women
END:VEVENT
BEGIN:VEVENT
DTSTART;TZID=America/New_York:20250618T070000
DTEND;TZID=America/New_York:20250618T103000
DTSTAMP:20260422T104005
CREATED:20240917T224145Z
LAST-MODIFIED:20250204T231722Z
UID:10001941-1750230000-1750242600@rodephshalom.org
SUMMARY:Breaking Bread on Broad Distribution
DESCRIPTION:Breaking Bread on Broad (BBoB) now provides food\, diapers\, and feminine hygiene supplies to up to one hundred families in need each Wednesday morning outside our Green Street entrance. BBoB partners with a variety of Philadelphia non-profits and our own RS members to obtain and distribute these necessary items. We fulfill our RS mission to create profound connections within our RS community as we join together in this sacred work of tikkun olam and within our neighborhood through our partnerships with other organizations and our relationships with the families we serve. Our volunteers find working with BBoB a deeply moving and enriching experience. For more information on Breaking Bread on Broad\, or to volunteer\, contact bbob@rodephshalom.org.
URL:https://rodephshalom.org/event/breaking-bread-on-broad-distribution-99/2025-06-18/
LOCATION:Congregation Rodeph Shalom\, 615 North Broad Street\, Philadelphia\, PA\, 19123\, United States
CATEGORIES:Social Justice
ATTACH;FMTTYPE=image/jpeg:https://rodephshalom.org/wp-content/uploads/2024/09/IMG_9380-2-1536x864-1-wT7VBY.tmp_.jpg
END:VEVENT
BEGIN:VEVENT
DTSTART;TZID=UTC:20250615T100000
DTEND;TZID=UTC:20250615T120000
DTSTAMP:20260422T104005
CREATED:20250519T172911Z
LAST-MODIFIED:20250519T172911Z
UID:10003734-1749981600-1749988800@rodephshalom.org
SUMMARY:Mah Jongg (off-site)
DESCRIPTION:Join with your 2025 card off-site. RSVP to Andi Shuster for location information.
URL:https://rodephshalom.org/event/mah-jongg-off-site/2025-06-15/
LOCATION:PA
CATEGORIES:Mah Jongg
END:VEVENT
BEGIN:VEVENT
DTSTART;TZID=America/New_York:20250614T104500
DTEND;TZID=America/New_York:20250614T121500
DTSTAMP:20260422T104005
CREATED:20240917T225439Z
LAST-MODIFIED:20250114T205521Z
UID:10002600-1749897900-1749903300@rodephshalom.org
SUMMARY:Shabbat Morning Services
DESCRIPTION:
URL:https://rodephshalom.org/event/shabbat-morning-services-67/2025-06-14/
LOCATION:Congregation Rodeph Shalom\, 615 North Broad Street\, Philadelphia\, PA\, 19123\, United States
CATEGORIES:Worship
END:VEVENT
BEGIN:VEVENT
DTSTART;TZID=America/New_York:20250614T091500
DTEND;TZID=America/New_York:20250614T103000
DTSTAMP:20260422T104005
CREATED:20240917T225543Z
LAST-MODIFIED:20251030T124013Z
UID:10002867-1749892500-1749897000@rodephshalom.org
SUMMARY:Torah Study
DESCRIPTION:The cornerstone of our learning is our Saturday morning Torah Study. We discuss the weekly Torah portion and have a lively and spirited conversation as we relate this ancient text to our daily lives. \nNo special training or prerequisite courses are necessary for you to attend. Neither is there an entrance requirement for the understanding of Torah. When we come to it in study\, there are no barriers to keep us distant from our heritage. \nTo access the weekly portion digitally visit: https://www.hebcal.com/sedrot or to purchase a hard copy of the plaut Torah commentary or women’s commentary visit  https://www.ccarpress.org/shopping_product_list.asp \nJoin Zoom Meeting 
URL:https://rodephshalom.org/event/torah-study-140/2025-06-14/
LOCATION:Congregation Rodeph Shalom\, 615 North Broad Street\, Philadelphia\, PA\, 19123\, United States
CATEGORIES:Adult Education
ATTACH;FMTTYPE=image/jpeg:https://rodephshalom.org/wp-content/uploads/2024/09/i-gxxCmW9-XL-e1664812690109-MaXQOx.tmp_.jpg
END:VEVENT
BEGIN:VEVENT
DTSTART;TZID=UTC:20250613T193000
DTEND;TZID=UTC:20250613T210000
DTSTAMP:20260422T104005
CREATED:20250428T171839Z
LAST-MODIFIED:20250603T220308Z
UID:10003703-1749843000-1749848400@rodephshalom.org
SUMMARY:Empty NestRS Dinner at Santucci's
DESCRIPTION:Join Empty NestRS at Santucci’s on North Broad on Friday\, June 13 following the Shabbat evening service. Register here. Contact Andi Shuster.
URL:https://rodephshalom.org/event/13905/
LOCATION:Santucci’s
CATEGORIES:Community,Empty NestRS
END:VEVENT
BEGIN:VEVENT
DTSTART;TZID=America/New_York:20250613T180000
DTEND;TZID=America/New_York:20250613T193000
DTSTAMP:20260422T104005
CREATED:20240917T225558Z
LAST-MODIFIED:20251030T123853Z
UID:10003135-1749837600-1749843000@rodephshalom.org
SUMMARY:Shabbat Evening Service
DESCRIPTION:Join together for an uplifting and transformative worship service that attracts the diverse population within Rodeph Shalom\, a service which is participatory\, warm\, inclusive\, welcoming\, spiritual and meaningful\, which helps everyone connect with each other\, with the soul of Jewish prayer\, and with God. \nIf you would like to access services virtually\, click here to watch the Livestream.
URL:https://rodephshalom.org/event/shabbat-evening-service-99/2025-06-13/
LOCATION:Congregation Rodeph Shalom\, 615 North Broad Street\, Philadelphia\, PA\, 19123\, United States
CATEGORIES:Worship
ATTACH;FMTTYPE=image/jpeg:https://rodephshalom.org/wp-content/uploads/2024/09/RS-Clergy-Shabbat-ObjSd3.tmp_.jpg
END:VEVENT
BEGIN:VEVENT
DTSTART;TZID=America/New_York:20250612T083000
DTEND;TZID=America/New_York:20250612T084000
DTSTAMP:20260422T104005
CREATED:20250620T175942Z
LAST-MODIFIED:20250620T175943Z
UID:10001677-1749717000-1749717600@rodephshalom.org
SUMMARY:Community Morning Minyan
DESCRIPTION:Every Thursday from 8:30-8:40 a.m. on Zoom \nStart your day in community. Whether you want to support others\, are in mourning\, or are marking a yahrzeit\, join us for a brief\, meaningful service. Your presence matters. \nJoin Zoom here. Open to all. Contact Tomas Isakowitz.
URL:https://rodephshalom.org/event/community-morning-minyan-108-2/2025-06-12/
LOCATION:Congregation Rodeph Shalom\, 615 North Broad Street\, Philadelphia\, PA\, 19123\, United States
CATEGORIES:Community
ATTACH;FMTTYPE=image/jpeg:https://rodephshalom.org/wp-content/uploads/2024/09/SLGCKGC-300x198-1-PKXPIC.tmp_.jpg
END:VEVENT
BEGIN:VEVENT
DTSTART;TZID=America/New_York:20250611T170000
DTEND;TZID=America/New_York:20250611T183000
DTSTAMP:20260422T104005
CREATED:20240917T230055Z
LAST-MODIFIED:20251030T123647Z
UID:10003729-1749661200-1749666600@rodephshalom.org
SUMMARY:Mitzvah Meals
DESCRIPTION:Help cook\, deliver meals\, and connect with our member families in the midst of personal transitions\, including surgeries\, illnesses\, or births. \nSign up here. Contact Cheryl Dougherty.
URL:https://rodephshalom.org/event/mitzvah-meals-29/2025-06-11/
LOCATION:Congregation Rodeph Shalom\, 615 North Broad Street\, Philadelphia\, PA\, 19123\, United States
CATEGORIES:Caring Community
END:VEVENT
BEGIN:VEVENT
DTSTART;TZID=America/New_York:20250611T070000
DTEND;TZID=America/New_York:20250611T103000
DTSTAMP:20260422T104005
CREATED:20240917T224145Z
LAST-MODIFIED:20250204T231722Z
UID:10001940-1749625200-1749637800@rodephshalom.org
SUMMARY:Breaking Bread on Broad Distribution
DESCRIPTION:Breaking Bread on Broad (BBoB) now provides food\, diapers\, and feminine hygiene supplies to up to one hundred families in need each Wednesday morning outside our Green Street entrance. BBoB partners with a variety of Philadelphia non-profits and our own RS members to obtain and distribute these necessary items. We fulfill our RS mission to create profound connections within our RS community as we join together in this sacred work of tikkun olam and within our neighborhood through our partnerships with other organizations and our relationships with the families we serve. Our volunteers find working with BBoB a deeply moving and enriching experience. For more information on Breaking Bread on Broad\, or to volunteer\, contact bbob@rodephshalom.org.
URL:https://rodephshalom.org/event/breaking-bread-on-broad-distribution-99/2025-06-11/
LOCATION:Congregation Rodeph Shalom\, 615 North Broad Street\, Philadelphia\, PA\, 19123\, United States
CATEGORIES:Social Justice
ATTACH;FMTTYPE=image/jpeg:https://rodephshalom.org/wp-content/uploads/2024/09/IMG_9380-2-1536x864-1-wT7VBY.tmp_.jpg
END:VEVENT
BEGIN:VEVENT
DTSTART;TZID=UTC:20250610T183000
DTEND;TZID=UTC:20250610T200000
DTSTAMP:20260422T104005
CREATED:20250428T173433Z
LAST-MODIFIED:20250529T163218Z
UID:10003708-1749580200-1749585600@rodephshalom.org
SUMMARY:Israel/Palestine Discussion Group
DESCRIPTION:In February 2025\, Catherine Fischer\, former Director of Membership and Philanthropy at RS and current principal and spiritual director at Sacred Practices\, and Rabbi Sue Levi Elwell\, Professor of Jewish Spirituality at the Graduate Theological Union and visiting Rabbi at RS during Rabbi Maderer’s recent sabbatical\, travelled to Israel and the occupied West Bank. They were on a journey that was called Sacred Witness: A Solidarity Pilgrimage to Palestine and Israel. The trip focused on the efforts of Israelis and Palestinians who are working together toward peaceful coexistence. Among other places\, their itinerary included the site of the Nova music festival\, the city of Hebron\, and Al Twani\, one of the villages of Masafer Yatta. This is the Palestinian region whose repeated targeting for demolition by the IDF was featured in the Academy Award winning (Best Documentary Feature) film “No Other Land.” Catherine and Rabbi Sue will join us to share the lessons of their trip. \nOur events are open to RS members and their invited guests. RSVP to Sophia Schwab. Contact Heshie Zinman.
URL:https://rodephshalom.org/event/israel-palestine-discussion-group-5/
LOCATION:Congregation Rodeph Shalom\, 615 North Broad Street\, Philadelphia\, PA\, 19123\, United States
CATEGORIES:Israel/Palestine Group
END:VEVENT
BEGIN:VEVENT
DTSTART;TZID=UTC:20250609T200000
DTEND;TZID=UTC:20250609T213000
DTSTAMP:20260422T104005
CREATED:20241216T194156Z
LAST-MODIFIED:20241216T202245Z
UID:10002507-1749499200-1749504600@rodephshalom.org
SUMMARY:Gun Violence Prevention Task Force
DESCRIPTION:Raise our collective voices to promote awareness\, advocacy and action to reduce gun violence and lessen its devastating impact on families and communities in the region. Zoom meetings are held on the second Monday of each month. \nRSVP to Bonnie Silverman at ruach49@comcast.net.
URL:https://rodephshalom.org/event/gun-violence-prevention-task-force/2025-06-09/
LOCATION:PA
CATEGORIES:Social Justice
END:VEVENT
BEGIN:VEVENT
DTSTART;TZID=America/New_York:20250607T104500
DTEND;TZID=America/New_York:20250607T121500
DTSTAMP:20260422T104005
CREATED:20240917T225439Z
LAST-MODIFIED:20250114T205521Z
UID:10002599-1749293100-1749298500@rodephshalom.org
SUMMARY:Shabbat Morning Services
DESCRIPTION:
URL:https://rodephshalom.org/event/shabbat-morning-services-67/2025-06-07/
LOCATION:Congregation Rodeph Shalom\, 615 North Broad Street\, Philadelphia\, PA\, 19123\, United States
CATEGORIES:Worship
END:VEVENT
BEGIN:VEVENT
DTSTART;TZID=America/New_York:20250607T093000
DTEND;TZID=America/New_York:20250607T103000
DTSTAMP:20260422T104005
CREATED:20240917T230404Z
LAST-MODIFIED:20240917T230404Z
UID:10001616-1749288600-1749292200@rodephshalom.org
SUMMARY:Tot Shabbat
DESCRIPTION:Gather for singing\, storytelling\, a craft\, and oneg at Tot Shabbat. RSVP to Andi Miller.
URL:https://rodephshalom.org/event/tot-shabbat-31/
LOCATION:PA
CATEGORIES:Buerger Early Learning Center
END:VEVENT
BEGIN:VEVENT
DTSTART;TZID=America/New_York:20250607T091500
DTEND;TZID=America/New_York:20250607T103000
DTSTAMP:20260422T104005
CREATED:20250605T190232Z
LAST-MODIFIED:20250605T190250Z
UID:10002866-1749287700-1749292200@rodephshalom.org
SUMMARY:Torah Study with Guest Student Rabbi Sai Koros
DESCRIPTION:The cornerstone of our learning is our Saturday morning Torah Study. We discuss the weekly Torah portion and have a lively and spirited conversation as we relate this ancient text to our daily lives. \nNo special training or prerequisite courses are necessary for you to attend. Neither is there an entrance requirement for the understanding of Torah. When we come to it in study\, there are no barriers to keep us distant from our heritage. \nSai Koros (they/them) completed their second year facilitating Torah Queeries for pRiSm here at RS and their third year as a student rabbi at the Reconstructionist Rabbinical College. Sai is passionate about intergenerational community building\, ritual arts\, and learning as a form of activism. They create a safe space allowing participants to be vulnerable and share from the heart. They offer interesting and challenging commentaries that deepen our understanding of the parsha. Sai has a relaxed\, easy style that encourages intimacy in conversation. \nTo access the weekly portion digitally visit: https://www.hebcal.com/sedrot or to purchase a hard copy of the plaut Torah commentary or women’s commentary visit  https://www.ccarpress.org/shopping_product_list.asp \nJoin Zoom Meeting 
URL:https://rodephshalom.org/event/torah-study-141/
LOCATION:Congregation Rodeph Shalom\, 615 North Broad Street\, Philadelphia\, PA\, 19123\, United States
CATEGORIES:Adult Education
ATTACH;FMTTYPE=image/jpeg:https://rodephshalom.org/wp-content/uploads/2024/09/i-gxxCmW9-XL-e1664812690109-MaXQOx.tmp_.jpg
END:VEVENT
BEGIN:VEVENT
DTSTART;TZID=UTC:20250606T193000
DTEND;TZID=UTC:20250606T210000
DTSTAMP:20260422T104005
CREATED:20250512T194407Z
LAST-MODIFIED:20250512T194407Z
UID:10003717-1749238200-1749243600@rodephshalom.org
SUMMARY:Shabbat Dinner Celebrating Pride
DESCRIPTION:The joy of Pride and the joy of Klezmer equals one fabulous evening! \nLed by renowned klezmer trombonist Dan Blacksberg\, Di Katzenmuzik is dedicated to great klezmer music\, justice\, and creating a vibrant Philly Jewish culture. \nMiryam Coppersmith will lead us in Yiddish folk dancing! \nCost: $36/adult; $18/child (3-12). Register at bit.ly/junepridedinnerrs. \nContact Heshie Zinman at hjzinman@gmail.com.
URL:https://rodephshalom.org/event/shabbat-dinner-celebrating-pride-2/
LOCATION:Congregation Rodeph Shalom\, 615 North Broad Street\, Philadelphia\, PA\, 19123\, United States
CATEGORIES:Community,pRiSm
ATTACH;FMTTYPE=image/jpeg:https://rodephshalom.org/wp-content/uploads/2025/05/signal-2025-01-15-085923_002.jpeg
END:VEVENT
BEGIN:VEVENT
DTSTART;TZID=America/New_York:20250606T180000
DTEND;TZID=America/New_York:20250606T193000
DTSTAMP:20260422T104005
CREATED:20240917T225558Z
LAST-MODIFIED:20251030T123853Z
UID:10003134-1749232800-1749238200@rodephshalom.org
SUMMARY:Shabbat Evening Service
DESCRIPTION:Join together for an uplifting and transformative worship service that attracts the diverse population within Rodeph Shalom\, a service which is participatory\, warm\, inclusive\, welcoming\, spiritual and meaningful\, which helps everyone connect with each other\, with the soul of Jewish prayer\, and with God. \nIf you would like to access services virtually\, click here to watch the Livestream.
URL:https://rodephshalom.org/event/shabbat-evening-service-99/2025-06-06/
LOCATION:Congregation Rodeph Shalom\, 615 North Broad Street\, Philadelphia\, PA\, 19123\, United States
CATEGORIES:Worship
ATTACH;FMTTYPE=image/jpeg:https://rodephshalom.org/wp-content/uploads/2024/09/RS-Clergy-Shabbat-ObjSd3.tmp_.jpg
END:VEVENT
BEGIN:VEVENT
DTSTART;TZID=America/New_York:20250606T163000
DTEND;TZID=America/New_York:20250606T173000
DTSTAMP:20260422T104005
CREATED:20250521T163821Z
LAST-MODIFIED:20251030T123826Z
UID:10005364-1749227400-1749231000@rodephshalom.org
SUMMARY:Weekly Meditation Group
DESCRIPTION:Please join us each Friday evening from 4:30-5:30pm for Jewish mindfulness meditation.  Our practice includes awareness of breath and body (yoga) to help us welcome Shabbat in the spirit of shalom.  Come anytime.  Beginners welcome. Join Zoom Meeting
URL:https://rodephshalom.org/event/weekly-meditation-group-127-3/2025-06-06/
LOCATION:Congregation Rodeph Shalom\, 615 North Broad Street\, Philadelphia\, PA\, 19123\, United States
CATEGORIES:Adult Education
ATTACH;FMTTYPE=image/jpeg:https://rodephshalom.org/wp-content/uploads/2024/09/balance-110850_960_720-PU3xHe.tmp_.jpg
END:VEVENT
BEGIN:VEVENT
DTSTART;TZID=UTC:20250606T124500
DTEND;TZID=UTC:20250606T140000
DTSTAMP:20260422T104005
CREATED:20250512T233119Z
LAST-MODIFIED:20250512T233119Z
UID:10003725-1749213900-1749218400@rodephshalom.org
SUMMARY:Penn Arts Live: Toll the Bell - A Cry for Peace
DESCRIPTION:Meet at Broad & Green Sts. at 12:45 p.m. \nToll the Bell is a city-wide sound installation bringing greater awareness to the gun violence epidemic affecting our city and the nation. Please bring your shofars. We will have a brief discussion of efforts to reduce gun violence\, and then blow shofars in unison at 1:00 p.m. \nPhiladelphians will come together to pause and reflect\, but Toll the Bell is not a profile of tragedy; it is a resounding call to action — a literal ringing of the bell — urging us to work towards transformative change for our city. \nContact Doug Rosenblum.
URL:https://rodephshalom.org/event/penn-arts-live-toll-the-bell-a-cry-for-peace/
LOCATION:Congregation Rodeph Shalom\, 615 North Broad Street\, Philadelphia\, PA\, 19123\, United States
CATEGORIES:Community,Social Justice
END:VEVENT
BEGIN:VEVENT
DTSTART;TZID=America/New_York:20250605T081000
DTEND;TZID=America/New_York:20250605T083000
DTSTAMP:20260422T104005
CREATED:20240917T224243Z
LAST-MODIFIED:20241101T184305Z
UID:10001676-1749111000-1749112200@rodephshalom.org
SUMMARY:Community Morning Minyan
DESCRIPTION:Every Thursday from 8:10-8:30 a.m. on Zoom \nAre you looking to perform a meaningful mitzvah for our community? Are you observing a yahrzeit? Have you lost a loved one in the past 11 months? Join us for a brief service where we come together to remember and support each other. Join Zoom here. Open to all. Contact Tomas Isakowitz.
URL:https://rodephshalom.org/event/community-morning-minyan-108/2025-06-05/
LOCATION:Congregation Rodeph Shalom\, 615 North Broad Street\, Philadelphia\, PA\, 19123\, United States
CATEGORIES:Community
ATTACH;FMTTYPE=image/jpeg:https://rodephshalom.org/wp-content/uploads/2024/09/SLGCKGC-300x198-1-PKXPIC.tmp_.jpg
END:VEVENT
BEGIN:VEVENT
DTSTART;TZID=UTC:20250604T190000
DTEND;TZID=UTC:20250604T203000
DTSTAMP:20260422T104005
CREATED:20250428T165859Z
LAST-MODIFIED:20250512T194504Z
UID:10003695-1749063600-1749069000@rodephshalom.org
SUMMARY:Torah Queeries
DESCRIPTION:Dinner at 6:30 p.m.; Discussion at 7:00 p.m. \nDiscuss Torah through a queer lens with student rabbi Sai Koros. Register here. Join Zoom here. Contact Heshie Zinman at hjzinman@gmail.com.
URL:https://rodephshalom.org/event/torah-queeries-20/
LOCATION:Congregation Rodeph Shalom\, 615 North Broad Street\, Philadelphia\, PA\, 19123\, United States
CATEGORIES:Adult Education,pRiSm
END:VEVENT
BEGIN:VEVENT
DTSTART;TZID=America/New_York:20250604T070000
DTEND;TZID=America/New_York:20250604T103000
DTSTAMP:20260422T104005
CREATED:20240917T224145Z
LAST-MODIFIED:20250204T231722Z
UID:10001939-1749020400-1749033000@rodephshalom.org
SUMMARY:Breaking Bread on Broad Distribution
DESCRIPTION:Breaking Bread on Broad (BBoB) now provides food\, diapers\, and feminine hygiene supplies to up to one hundred families in need each Wednesday morning outside our Green Street entrance. BBoB partners with a variety of Philadelphia non-profits and our own RS members to obtain and distribute these necessary items. We fulfill our RS mission to create profound connections within our RS community as we join together in this sacred work of tikkun olam and within our neighborhood through our partnerships with other organizations and our relationships with the families we serve. Our volunteers find working with BBoB a deeply moving and enriching experience. For more information on Breaking Bread on Broad\, or to volunteer\, contact bbob@rodephshalom.org.
URL:https://rodephshalom.org/event/breaking-bread-on-broad-distribution-99/2025-06-04/
LOCATION:Congregation Rodeph Shalom\, 615 North Broad Street\, Philadelphia\, PA\, 19123\, United States
CATEGORIES:Social Justice
ATTACH;FMTTYPE=image/jpeg:https://rodephshalom.org/wp-content/uploads/2024/09/IMG_9380-2-1536x864-1-wT7VBY.tmp_.jpg
END:VEVENT
BEGIN:VEVENT
DTSTART;TZID=UTC:20250603T183000
DTEND;TZID=UTC:20250603T200000
DTSTAMP:20260422T104005
CREATED:20250512T232932Z
LAST-MODIFIED:20250512T232932Z
UID:10003724-1748975400-1748980800@rodephshalom.org
SUMMARY:"Tikkun Olam: Healing Our World" Exhibit Panel
DESCRIPTION:Join a panel of artists for a discussion about the “Tikkun Olam: Healing Our World” exhibit with RS congregant and guest juror Ruth Fine. \nA modern understanding of Tikkun Olam is that we share a partnership with God and have a duty to confront the challenges of repairing our world. The exhibit will be open through the end of June. \nRegister here. Contact Robin Blumenfeld.
URL:https://rodephshalom.org/event/tikkun-olam-healing-our-world-exhibit-panel/
LOCATION:Congregation Rodeph Shalom\, 615 North Broad Street\, Philadelphia\, PA\, 19123\, United States
CATEGORIES:Community,Philadelphia Museum of Jewish Art
END:VEVENT
BEGIN:VEVENT
DTSTART;TZID=UTC:20250602T104500
DTEND;TZID=UTC:20250602T120000
DTSTAMP:20260422T104005
CREATED:20250512T233304Z
LAST-MODIFIED:20250512T233304Z
UID:10003726-1748861100-1748865600@rodephshalom.org
SUMMARY:Shavuot Morning Festival Service with Yizkor
DESCRIPTION:Attend the Shavuot Festival Service with Yizkor\, where we will honor the memories of our loved ones who passed away this year from Passover to Shavuot.
URL:https://rodephshalom.org/event/shavuot-morning-festival-service-with-yizkor/
LOCATION:Congregation Rodeph Shalom\, 615 North Broad Street\, Philadelphia\, PA\, 19123\, United States
CATEGORIES:Holiday,Worship
END:VEVENT
BEGIN:VEVENT
DTSTART;TZID=UTC:20250601T100000
DTEND;TZID=UTC:20250601T120000
DTSTAMP:20260422T104006
CREATED:20250519T172911Z
LAST-MODIFIED:20250519T172911Z
UID:10003733-1748772000-1748779200@rodephshalom.org
SUMMARY:Mah Jongg (off-site)
DESCRIPTION:Join with your 2025 card off-site. RSVP to Andi Shuster for location information.
URL:https://rodephshalom.org/event/mah-jongg-off-site/2025-06-01/
LOCATION:PA
CATEGORIES:Mah Jongg
END:VEVENT
END:VCALENDAR