BEGIN:VCALENDAR
VERSION:2.0
PRODID:-//Rodeph Shalom - ECPv6.15.17.1//NONSGML v1.0//EN
CALSCALE:GREGORIAN
METHOD:PUBLISH
X-ORIGINAL-URL:https://rodephshalom.org
X-WR-CALDESC:Events for Rodeph Shalom
REFRESH-INTERVAL;VALUE=DURATION:PT1H
X-Robots-Tag:noindex
X-PUBLISHED-TTL:PT1H
BEGIN:VTIMEZONE
TZID:America/New_York
BEGIN:DAYLIGHT
TZOFFSETFROM:-0500
TZOFFSETTO:-0400
TZNAME:EDT
DTSTART:20250309T070000
END:DAYLIGHT
BEGIN:STANDARD
TZOFFSETFROM:-0400
TZOFFSETTO:-0500
TZNAME:EST
DTSTART:20251102T060000
END:STANDARD
BEGIN:DAYLIGHT
TZOFFSETFROM:-0500
TZOFFSETTO:-0400
TZNAME:EDT
DTSTART:20260308T070000
END:DAYLIGHT
BEGIN:STANDARD
TZOFFSETFROM:-0400
TZOFFSETTO:-0500
TZNAME:EST
DTSTART:20261101T060000
END:STANDARD
BEGIN:DAYLIGHT
TZOFFSETFROM:-0500
TZOFFSETTO:-0400
TZNAME:EDT
DTSTART:20270314T070000
END:DAYLIGHT
BEGIN:STANDARD
TZOFFSETFROM:-0400
TZOFFSETTO:-0500
TZNAME:EST
DTSTART:20271107T060000
END:STANDARD
END:VTIMEZONE
BEGIN:VEVENT
DTSTART;TZID=America/New_York:20260322T093000
DTEND;TZID=America/New_York:20260322T123000
DTSTAMP:20260422T073421
CREATED:20260320T172305Z
LAST-MODIFIED:20260320T172305Z
UID:10005107-1774171800-1774182600@rodephshalom.org
SUMMARY:Berkman Mercaz Limud
DESCRIPTION:
URL:https://rodephshalom.org/event/berkman-mercaz-limud-109-2-2-3/
LOCATION:Congregation Rodeph Shalom\, 615 North Broad Street\, Philadelphia\, PA\, 19123\, United States
CATEGORIES:Berkman Mercaz Limud
END:VEVENT
BEGIN:VEVENT
DTSTART;TZID=America/New_York:20260322T100000
DTEND;TZID=America/New_York:20260322T120000
DTSTAMP:20260422T073421
CREATED:20260320T172330Z
LAST-MODIFIED:20260320T172330Z
UID:10005179-1774173600-1774180800@rodephshalom.org
SUMMARY:Mah Jongg
DESCRIPTION:Join on Sundays at 10:00 a.m.\, beginning Sept. 14 with your 2025 card. Contact Andi Shuster.
URL:https://rodephshalom.org/event/mah-jongg-32-3-3/
LOCATION:Congregation Rodeph Shalom\, 615 North Broad Street\, Philadelphia\, PA\, 19123\, United States
CATEGORIES:Mah Jongg
END:VEVENT
BEGIN:VEVENT
DTSTART;TZID=America/New_York:20260322T103000
DTEND;TZID=America/New_York:20260322T120000
DTSTAMP:20260422T073421
CREATED:20260309T124432Z
LAST-MODIFIED:20260320T172849Z
UID:10005813-1774175400-1774180800@rodephshalom.org
SUMMARY:Berkman Mercaz Limud Parents Group Craft for a Cause
DESCRIPTION:Come join Berkman Mercaz Limud Parents and Knitzvot for a beginner-friendly social-justice knit to make red Melt the Ice hats. We’ll provide yarn and some supplies. Please fill out this questionnaire to RSVP and let us know your experience level and what supplies or tools you can bring from home. New and experienced knitters welcome! Contact Anna Reitter with any questions.
URL:https://rodephshalom.org/event/berkman-mercaz-limud-parents-group-craft-for-a-cause/
LOCATION:Congregation Rodeph Shalom\, 615 North Broad Street\, Philadelphia\, PA\, 19123\, United States
CATEGORIES:Berkman Mercaz Limud Parent Group
END:VEVENT
BEGIN:VEVENT
DTSTART;TZID=America/New_York:20260322T103000
DTEND;TZID=America/New_York:20260322T123000
DTSTAMP:20260422T073421
CREATED:20260320T172720Z
LAST-MODIFIED:20260320T172721Z
UID:10005773-1774175400-1774182600@rodephshalom.org
SUMMARY:iEngage Shalom Hartman Series: Between Crisis and Aspiration: A Community Conversation on Liberal Zionism
DESCRIPTION:Please join us for the next Shalom Hartman Institute iEngage series to be led by Rick Berkman.  Please join us on Sunday mornings\, March 8 to May 10\, 10:30 a.m. to 12:30 p.m. (no sessions on April 5 and 12). Bagels and coffee will be served each week.\n\nIn this moment of profound challenge\, many of us are seeking a language to express both our deep commitments and our difficult questions. This eight session course offers a framework for holding the moral complexity of Zionism today. Through in-person study\, podcast-style learning and shared discussion\, we will move beyond the headlines to explore the values that ground us. If you are looking for a place to engage with Israel with “courage\, compassion\, and clarity\,” we invite you to join us. \n\nRegistration and Questions: Please register via email to Andrew Eisenberg
URL:https://rodephshalom.org/event/iengage-shalom-hartman-series-liberal-zionism-between-crisis-and-aspiration-4/
LOCATION:Congregation Rodeph Shalom\, 615 North Broad Street\, Philadelphia\, PA\, 19123\, United States
CATEGORIES:Adult Education,Community
END:VEVENT
BEGIN:VEVENT
DTSTART;TZID=America/New_York:20260323T190000
DTEND;TZID=America/New_York:20260323T203000
DTSTAMP:20260422T073421
CREATED:20260304T183618Z
LAST-MODIFIED:20260316T152805Z
UID:10005810-1774292400-1774297800@rodephshalom.org
SUMMARY:Multifaith Group at St. Malachy Church
DESCRIPTION:Join RS members and St. Malachy in discussing multifaith questions from Jewish and Catholic perspectives. We are in the early stages of forming this group\, and along with the dialogue\, we are looking for your ideas about how to organize it: meeting dates\, times\, locations and frequency; discussion topics; and more. RSVP to Richard Pardys.
URL:https://rodephshalom.org/event/interfaith-group/
LOCATION:St. Malachy Church\, 1429 N. 11th Street\, Philadelphia\, PA\, 19122
CATEGORIES:Interfaith Group
END:VEVENT
BEGIN:VEVENT
DTSTART;TZID=America/New_York:20260324T163000
DTEND;TZID=America/New_York:20260324T183000
DTSTAMP:20260422T073421
CREATED:20250807T171820Z
LAST-MODIFIED:20250919T200403Z
UID:10005287-1774369800-1774377000@rodephshalom.org
SUMMARY:Online Midweek Hebrew
DESCRIPTION:
URL:https://rodephshalom.org/event/online-midweek-hebrew-107/2026-03-24/
LOCATION:Congregation Rodeph Shalom\, 615 North Broad Street\, Philadelphia\, PA\, 19123\, United States
CATEGORIES:Berkman Mercaz Limud
END:VEVENT
BEGIN:VEVENT
DTSTART;TZID=America/New_York:20260324T180000
DTEND;TZID=America/New_York:20260324T200000
DTSTAMP:20260422T073421
CREATED:20251229T191037Z
LAST-MODIFIED:20260127T153143Z
UID:10005468-1774375200-1774382400@rodephshalom.org
SUMMARY:Introduction to Judaism
DESCRIPTION:If you are an interfaith couple\, considering converting to Judaism\, or Jewish and looking for beginner’s education\, Introduction to Judaism is perfect for you. \nTaught by Rodeph Shalom clergy\, this course provides students with a foundation of the Jewish faith\, culture\, people and history from a Reform perspective. \nFree for RS members; $250/non-member individuals and couples. The course runs from Tuesday\, January 20 through April 14 from 6:00-8:00 p.m. \nContact Steven Share for information.
URL:https://rodephshalom.org/event/introduction-to-judaism-15/2026-03-24/
CATEGORIES:Adult Education,Community,Introduction to Judaism
END:VEVENT
BEGIN:VEVENT
DTSTART;TZID=America/New_York:20260325T070000
DTEND;TZID=America/New_York:20260325T103000
DTSTAMP:20260422T073421
CREATED:20240917T224145Z
LAST-MODIFIED:20250204T231722Z
UID:10001981-1774422000-1774434600@rodephshalom.org
SUMMARY:Breaking Bread on Broad Distribution
DESCRIPTION:Breaking Bread on Broad (BBoB) now provides food\, diapers\, and feminine hygiene supplies to up to one hundred families in need each Wednesday morning outside our Green Street entrance. BBoB partners with a variety of Philadelphia non-profits and our own RS members to obtain and distribute these necessary items. We fulfill our RS mission to create profound connections within our RS community as we join together in this sacred work of tikkun olam and within our neighborhood through our partnerships with other organizations and our relationships with the families we serve. Our volunteers find working with BBoB a deeply moving and enriching experience. For more information on Breaking Bread on Broad\, or to volunteer\, contact bbob@rodephshalom.org.
URL:https://rodephshalom.org/event/breaking-bread-on-broad-distribution-99/2026-03-25/
LOCATION:Congregation Rodeph Shalom\, 615 North Broad Street\, Philadelphia\, PA\, 19123\, United States
CATEGORIES:Social Justice
ATTACH;FMTTYPE=image/jpeg:https://rodephshalom.org/wp-content/uploads/2024/09/IMG_9380-2-1536x864-1-wT7VBY.tmp_.jpg
END:VEVENT
BEGIN:VEVENT
DTSTART;TZID=America/New_York:20260325T163000
DTEND;TZID=America/New_York:20260325T183000
DTSTAMP:20260422T073421
CREATED:20250807T172129Z
LAST-MODIFIED:20250919T200037Z
UID:10005234-1774456200-1774463400@rodephshalom.org
SUMMARY:Midweek Hebrew
DESCRIPTION:
URL:https://rodephshalom.org/event/midweek-hebrew-101/2026-03-25/
LOCATION:Congregation Rodeph Shalom\, 615 North Broad Street\, Philadelphia\, PA\, 19123\, United States
CATEGORIES:Berkman Mercaz Limud
END:VEVENT
BEGIN:VEVENT
DTSTART;TZID=America/New_York:20260325T180000
DTEND;TZID=America/New_York:20260325T193000
DTSTAMP:20260422T073421
CREATED:20260217T203704Z
LAST-MODIFIED:20260217T203704Z
UID:10005790-1774461600-1774467000@rodephshalom.org
SUMMARY:Jewish Feminist Book Club
DESCRIPTION:Discuss “Yiddish as Feminist Language: Essays by Irena Klepfisz and Rabbi Sharon Kleinbaum” on Wednesday\, March 25 at 6:00 p.m at RS. \nRegister here. Contact Theresa Piazza.
URL:https://rodephshalom.org/event/jewish-feminist-book-club-5/
LOCATION:Congregation Rodeph Shalom\, 615 North Broad Street\, Philadelphia\, PA\, 19123\, United States
CATEGORIES:RS Women
END:VEVENT
BEGIN:VEVENT
DTSTART;TZID=America/New_York:20260326T081000
DTEND;TZID=America/New_York:20260326T084000
DTSTAMP:20260422T073421
CREATED:20251001T174623Z
LAST-MODIFIED:20251202T172130Z
UID:10004367-1774512600-1774514400@rodephshalom.org
SUMMARY:Online Community Morning Minyan
DESCRIPTION:Every Thursday from 8:10-8:40 a.m. on Zoom \nStart your day in community. Whether you want to support others\, are in mourning\, or are marking a yahrzeit\, join us for a brief\, meaningful service. Your presence matters. \nJoin Zoom here. Open to all. Contact Tomas Isakowitz.
URL:https://rodephshalom.org/event/community-morning-minyan-108-2-2-2/2026-03-26/
CATEGORIES:Community
ATTACH;FMTTYPE=image/png:https://rodephshalom.org/wp-content/uploads/2025/10/image-17.png
LOCATION:https://rodephshalom.org/event/community-morning-minyan-108-2-2-2/2026-03-26/
END:VEVENT
BEGIN:VEVENT
DTSTART;TZID=America/New_York:20260326T170000
DTEND;TZID=America/New_York:20260326T200000
DTSTAMP:20260422T073421
CREATED:20260217T203931Z
LAST-MODIFIED:20260217T203931Z
UID:10005791-1774544400-1774555200@rodephshalom.org
SUMMARY:ConnectRS
DESCRIPTION:A congregational highlight each year is our ConnectRS Calls. Each spring\, we reach out to every RS household to wish them a Happy Passover and check in. This year\, we’re adding some fun new twists! Everyone who registers by March 13 for in-person calling will receive a ConnectRS t-shirt. Lists will be available if you are unable to make calls in person or if you would like to take more home with you. \nThank you to Santucci’s North Broad for sponsoring dinner. \nRegister here. Chaired by Cheryl Dougherty and Linda Karp Rudow.
URL:https://rodephshalom.org/event/connectrs/
LOCATION:Congregation Rodeph Shalom\, 615 North Broad Street\, Philadelphia\, PA\, 19123\, United States
CATEGORIES:Caring Community,Community
END:VEVENT
BEGIN:VEVENT
DTSTART;TZID=America/New_York:20260327T170000
DTEND;TZID=America/New_York:20260327T173000
DTSTAMP:20260422T073421
CREATED:20251121T151813Z
LAST-MODIFIED:20251121T155540Z
UID:10004890-1774630800-1774632600@rodephshalom.org
SUMMARY:Jewish Meditation Group
DESCRIPTION:Please join us weekly from 5:00-5:30 p.m. for Jewish mindfulness meditation.  Our practice includes awareness of breath and body (yoga) to help us welcome Shabbat in the spirit of shalom.  Come anytime.  Beginners welcome. Join Zoom Meeting
URL:https://rodephshalom.org/event/jewishmeditation-3/2026-03-27/
LOCATION:Congregation Rodeph Shalom\, 615 North Broad Street\, Philadelphia\, PA\, 19123\, United States
CATEGORIES:Adult Education
ATTACH;FMTTYPE=image/jpeg:https://rodephshalom.org/wp-content/uploads/2024/09/balance-110850_960_720-PU3xHe.tmp_.jpg
END:VEVENT
BEGIN:VEVENT
DTSTART;TZID=America/New_York:20260327T180000
DTEND;TZID=America/New_York:20260327T193000
DTSTAMP:20260422T073421
CREATED:20240917T225558Z
LAST-MODIFIED:20251030T123853Z
UID:10003176-1774634400-1774639800@rodephshalom.org
SUMMARY:Shabbat Evening Service
DESCRIPTION:Join together for an uplifting and transformative worship service that attracts the diverse population within Rodeph Shalom\, a service which is participatory\, warm\, inclusive\, welcoming\, spiritual and meaningful\, which helps everyone connect with each other\, with the soul of Jewish prayer\, and with God. \nIf you would like to access services virtually\, click here to watch the Livestream.
URL:https://rodephshalom.org/event/shabbat-evening-service-99/2026-03-27/
LOCATION:Congregation Rodeph Shalom\, 615 North Broad Street\, Philadelphia\, PA\, 19123\, United States
CATEGORIES:Worship
ATTACH;FMTTYPE=image/jpeg:https://rodephshalom.org/wp-content/uploads/2024/09/RS-Clergy-Shabbat-ObjSd3.tmp_.jpg
END:VEVENT
BEGIN:VEVENT
DTSTART;TZID=America/New_York:20260328T091500
DTEND;TZID=America/New_York:20260328T103000
DTSTAMP:20260422T073421
CREATED:20240917T225543Z
LAST-MODIFIED:20251030T124013Z
UID:10002908-1774689300-1774693800@rodephshalom.org
SUMMARY:Torah Study
DESCRIPTION:The cornerstone of our learning is our Saturday morning Torah Study. We discuss the weekly Torah portion and have a lively and spirited conversation as we relate this ancient text to our daily lives. \nNo special training or prerequisite courses are necessary for you to attend. Neither is there an entrance requirement for the understanding of Torah. When we come to it in study\, there are no barriers to keep us distant from our heritage. \nTo access the weekly portion digitally visit: https://www.hebcal.com/sedrot or to purchase a hard copy of the plaut Torah commentary or women’s commentary visit  https://www.ccarpress.org/shopping_product_list.asp \nJoin Zoom Meeting 
URL:https://rodephshalom.org/event/torah-study-140/2026-03-28/
LOCATION:Congregation Rodeph Shalom\, 615 North Broad Street\, Philadelphia\, PA\, 19123\, United States
CATEGORIES:Adult Education
ATTACH;FMTTYPE=image/jpeg:https://rodephshalom.org/wp-content/uploads/2024/09/i-gxxCmW9-XL-e1664812690109-MaXQOx.tmp_.jpg
END:VEVENT
BEGIN:VEVENT
DTSTART;TZID=America/New_York:20260328T104500
DTEND;TZID=America/New_York:20260328T121500
DTSTAMP:20260422T073421
CREATED:20240917T225439Z
LAST-MODIFIED:20250114T205521Z
UID:10002641-1774694700-1774700100@rodephshalom.org
SUMMARY:Shabbat Morning Services
DESCRIPTION:
URL:https://rodephshalom.org/event/shabbat-morning-services-67/2026-03-28/
LOCATION:Congregation Rodeph Shalom\, 615 North Broad Street\, Philadelphia\, PA\, 19123\, United States
CATEGORIES:Worship
END:VEVENT
END:VCALENDAR